BEGIN:VCALENDAR
VERSION:2.0
PRODID:spatie/icalendar-generator
NAME:Maharashtra Mandal Abu-Dhabi UAE
X-WR-CALNAME:Maharashtra Mandal Abu-Dhabi UAE
DESCRIPTION:Events for Maharashtra Mandal Abu-Dhabi UAE
X-WR-CALDESC:Events for Maharashtra Mandal Abu-Dhabi UAE
BEGIN:VEVENT
UID:1998-1777492800-1777579140@testmmau.immensesoft.com
SUMMARY:Regional Focus Day (RFD)
DESCRIPTION:Regional Focus Day (RFD)
LOCATION:Mina\, Street\, Abu Dhabi\, AE 443101\, UAE
URL:https://testmmau.immensesoft.com/event/regional-focus-day-rfd/
DTSTART:20260430
DTEND:20260430
DTSTAMP:20260421T074714Z
END:VEVENT
END:VCALENDAR