BEGIN:VCALENDAR
VERSION:2.0
PRODID:spatie/icalendar-generator
NAME:Maharashtra Mandal Abu-Dhabi UAE
X-WR-CALNAME:Maharashtra Mandal Abu-Dhabi UAE
DESCRIPTION:Events for Maharashtra Mandal Abu-Dhabi UAE
X-WR-CALDESC:Events for Maharashtra Mandal Abu-Dhabi UAE
BEGIN:VEVENT
UID:2082-1777492800-1777579140@testmmau.immensesoft.com
SUMMARY:Meet up
DESCRIPTION:
URL:https://testmmau.immensesoft.com/event/last-event/
DTSTART:20260430
DTEND:20260430
DTSTAMP:20260421T074357Z
END:VEVENT
END:VCALENDAR