BEGIN:VCALENDAR
VERSION:2.0
PRODID:spatie/icalendar-generator
NAME:Maharashtra Mandal Abu-Dhabi UAE
X-WR-CALNAME:Maharashtra Mandal Abu-Dhabi UAE
DESCRIPTION:Events for Maharashtra Mandal Abu-Dhabi UAE
X-WR-CALDESC:Events for Maharashtra Mandal Abu-Dhabi UAE
BEGIN:VEVENT
UID:2008-1776024000-1776110340@testmmau.immensesoft.com
SUMMARY:Event today
DESCRIPTION:
LOCATION:Vas Island Road\, Abu Dhabi\, AE\, UAE
URL:https://testmmau.immensesoft.com/event/event-today/
DTSTART:20260413
DTEND:20260413
DTSTAMP:20260421T111919Z
END:VEVENT
END:VCALENDAR