BEGIN:VCALENDAR
VERSION:2.0
PRODID:spatie/icalendar-generator
NAME:Maharashtra Mandal Abu-Dhabi UAE
X-WR-CALNAME:Maharashtra Mandal Abu-Dhabi UAE
DESCRIPTION:Events for Maharashtra Mandal Abu-Dhabi UAE
X-WR-CALDESC:Events for Maharashtra Mandal Abu-Dhabi UAE
BEGIN:VEVENT
UID:2079-1777147200-1777233540@testmmau.immensesoft.com
SUMMARY:Akshayy Tritiya
DESCRIPTION:SummarySummarySummary
URL:https://testmmau.immensesoft.com/event/event-14-04/
DTSTART:20260426
DTEND:20260426
DTSTAMP:20260421T074419Z
END:VEVENT
END:VCALENDAR